BEGIN:VCALENDAR
VERSION:2.0
PRODID:-//ChurchDev//Events//EN
CALSCALE:GREGORIAN
METHOD:PUBLISH
BEGIN:VEVENT
UID:4097-20230101@www.gcbcfw.org
SUMMARY:Sunday Morning Worship Service
DTSTART:20230101T160000Z
DTEND:20230101T170000Z
DESCRIPTION:We love gathering together as a family and we hope that you’ll join us. In Our two services\, English and Español you can expect to hear inspiring music as well as an engaging message that is Biblically Inspiring\, Practical and Challenging. Some will come dressed up others casual so feel free to wear whatever is comfortable for you.\\n\\nhttps://www.gcbcfw.org/events/unday-services-1000-am/
LOCATION:7700 McCart Ave. Forth Worth\, TX 76133
URL:https://www.gcbcfw.org/events/unday-services-1000-am/
DTSTAMP:20260419T211332Z
END:VEVENT
END:VCALENDAR
