BEGIN:VCALENDAR
VERSION:2.0
PRODID:-//ChurchDev//Events//EN
CALSCALE:GREGORIAN
METHOD:PUBLISH
BEGIN:VEVENT
UID:6276-20260107@www.gcbcfw.org
SUMMARY:English Bible Study
DTSTART:20260108T010000Z
DTEND:20260108T020000Z
DESCRIPTION:Bible Study will be on Wednesday\, at 7:00 p.m. 1st Wednesday &#8211\; Family Night. 2nd Wednesday in person\, and 3rd\, 4th and 5th Wednesday nights\, it will be Streamed Online.\\n\\nhttps://www.gcbcfw.org/events/english-bible-study-virtual/
LOCATION:7700 McCart Ave. Forth Worth\, TX 76133
URL:https://www.gcbcfw.org/events/english-bible-study-virtual/
DTSTAMP:20260419T211225Z
END:VEVENT
END:VCALENDAR
