BEGIN:VCALENDAR
VERSION:2.0
PRODID:-//ChurchDev//Events//EN
CALSCALE:GREGORIAN
METHOD:PUBLISH
BEGIN:VEVENT
UID:7070-20260502@www.gcbcfw.org
SUMMARY:“Kickin’ It with The Brown’s
DTSTART:20260502T050000Z
DTEND:20260502T200000Z
DESCRIPTION:“Kickin’ It with The Brown’s\\nThe PAC\, FLAC\, The Women &amp\; Men’s Ministry would like to invite you to “Kickin” It with The Brown’s at our Denim and White Social on Saturday\, May 2nd from 12:00 noon – 3:00 p.m. Come join us for food\, fun and fellowship as we honor our Man of Valor\, Pastor Brown and Woman of Virtue\, Lady Lakedra. The price of the tickets is $20 per person and will be available to purchase starting today after morning worship service through Sunday\, April 19th....\\n\\nhttps://www.gcbcfw.org/events/kickin-it-with-the-browns/
LOCATION:7700 McCart Ave. Forth Worth\, TX 76133
URL:https://www.gcbcfw.org/events/kickin-it-with-the-browns/
DTSTAMP:20260419T211520Z
END:VEVENT
END:VCALENDAR
