BEGIN:VCALENDAR
VERSION:2.0
PRODID:-//ChurchDev//Events//EN
CALSCALE:GREGORIAN
METHOD:PUBLISH
BEGIN:VEVENT
UID:7123-20260425@www.gcbcfw.org
SUMMARY:GriefShare Ministry is hosting &#8220\;Living Without Mom
DTSTART:20260425T150000Z
DTEND:20260425T170000Z
DESCRIPTION:Great Commission Baptist Church GriefShare Ministry is hosting &#8220\;Living Without Mom: A Resource for Those Grieving Their Mom.” We invite you to join us in a Zoom session on Saturday\, April 25\, 2026\, from 10:00 am – 12 Noon CT. The facilitator is Dr. Blondie Webb. There is no cost for the session.\\n\\n\\nThe GCBC GriefShare Zoom Link: Click Here\\nMeeting ID: 842 8209 9644\\nPasscode: grief\\n\\nYou may order a digital or print copy of the book through: Click Here \\n\\nhttps://www.gcbcfw.org/events/griefshare-ministry-is-hosting-living-without-mom/
LOCATION:7700 McCart Ave. Forth Worth\, TX 76133
URL:https://www.gcbcfw.org/events/griefshare-ministry-is-hosting-living-without-mom/
DTSTAMP:20260419T211827Z
END:VEVENT
END:VCALENDAR
